BEGIN:VCALENDAR
VERSION:2.0
PRODID:-//pfarre-euratsfeld.at - ECPv6.15.20//NONSGML v1.0//EN
CALSCALE:GREGORIAN
METHOD:PUBLISH
X-WR-CALNAME:pfarre-euratsfeld.at
X-ORIGINAL-URL:https://pfarre-euratsfeld.at
X-WR-CALDESC:Veranstaltungen für pfarre-euratsfeld.at
REFRESH-INTERVAL;VALUE=DURATION:PT1H
X-Robots-Tag:noindex
X-PUBLISHED-TTL:PT1H
BEGIN:VTIMEZONE
TZID:Europe/Berlin
BEGIN:DAYLIGHT
TZOFFSETFROM:+0100
TZOFFSETTO:+0200
TZNAME:CEST
DTSTART:20250330T010000
END:DAYLIGHT
BEGIN:STANDARD
TZOFFSETFROM:+0200
TZOFFSETTO:+0100
TZNAME:CET
DTSTART:20251026T010000
END:STANDARD
BEGIN:DAYLIGHT
TZOFFSETFROM:+0100
TZOFFSETTO:+0200
TZNAME:CEST
DTSTART:20260329T010000
END:DAYLIGHT
BEGIN:STANDARD
TZOFFSETFROM:+0200
TZOFFSETTO:+0100
TZNAME:CET
DTSTART:20261025T010000
END:STANDARD
BEGIN:DAYLIGHT
TZOFFSETFROM:+0100
TZOFFSETTO:+0200
TZNAME:CEST
DTSTART:20270328T010000
END:DAYLIGHT
BEGIN:STANDARD
TZOFFSETFROM:+0200
TZOFFSETTO:+0100
TZNAME:CET
DTSTART:20271031T010000
END:STANDARD
END:VTIMEZONE
BEGIN:VEVENT
DTSTART;TZID=Europe/Berlin:20260304T140000
DTEND;TZID=Europe/Berlin:20260304T170000
DTSTAMP:20260424T073020
CREATED:20260228T200545Z
LAST-MODIFIED:20260228T203808Z
UID:6835-1772632800-1772643600@pfarre-euratsfeld.at
SUMMARY:Alten- und Krankentag
DESCRIPTION:Heute lädt der Pfarrverband Euratsfeld-Ferschnitz alle zum Alten- und Krankentag ins PGZ ein. Um 14 Uhr feiern wir die Heilige Messe mit Spendung der heiligen Krankensalbung. Anschließend gemütliches Beisammensein.
URL:https://pfarre-euratsfeld.at/event/alten-und-krankentag/
ATTACH;FMTTYPE=image/jpeg:https://pfarre-euratsfeld.at/wp-content/uploads/2026/02/Einladung-Alten-und-Krankentag-2026-1.jpg
END:VEVENT
END:VCALENDAR