BEGIN:VCALENDAR
VERSION:2.0
PRODID:-//pfarre-euratsfeld.at - ECPv6.15.20//NONSGML v1.0//EN
CALSCALE:GREGORIAN
METHOD:PUBLISH
X-ORIGINAL-URL:https://pfarre-euratsfeld.at
X-WR-CALDESC:Veranstaltungen für pfarre-euratsfeld.at
REFRESH-INTERVAL;VALUE=DURATION:PT1H
X-Robots-Tag:noindex
X-PUBLISHED-TTL:PT1H
BEGIN:VTIMEZONE
TZID:Europe/Berlin
BEGIN:DAYLIGHT
TZOFFSETFROM:+0100
TZOFFSETTO:+0200
TZNAME:CEST
DTSTART:20250330T010000
END:DAYLIGHT
BEGIN:STANDARD
TZOFFSETFROM:+0200
TZOFFSETTO:+0100
TZNAME:CET
DTSTART:20251026T010000
END:STANDARD
BEGIN:DAYLIGHT
TZOFFSETFROM:+0100
TZOFFSETTO:+0200
TZNAME:CEST
DTSTART:20260329T010000
END:DAYLIGHT
BEGIN:STANDARD
TZOFFSETFROM:+0200
TZOFFSETTO:+0100
TZNAME:CET
DTSTART:20261025T010000
END:STANDARD
BEGIN:DAYLIGHT
TZOFFSETFROM:+0100
TZOFFSETTO:+0200
TZNAME:CEST
DTSTART:20270328T010000
END:DAYLIGHT
BEGIN:STANDARD
TZOFFSETFROM:+0200
TZOFFSETTO:+0100
TZNAME:CET
DTSTART:20271031T010000
END:STANDARD
END:VTIMEZONE
BEGIN:VEVENT
DTSTART;TZID=Europe/Berlin:20260327T080000
DTEND;TZID=Europe/Berlin:20260327T110000
DTSTAMP:20260424T111732
CREATED:20260321T194946Z
LAST-MODIFIED:20260321T194947Z
UID:6988-1774598400-1774609200@pfarre-euratsfeld.at
SUMMARY:Ostergottesdienste für die Volks- und Mittelschule
DESCRIPTION:Heute feiern wir um 8:00 Uhr Ostergottesdienst für die Volksschule und um 10:30 Uhr für die neue Mittelschule.
URL:https://pfarre-euratsfeld.at/event/ostergottesdienste-fuer-die-volks-und-mittelschule/
ATTACH;FMTTYPE=image/png:https://pfarre-euratsfeld.at/wp-content/uploads/2026/03/hoggyart-cross-8554884-scaled.png
END:VEVENT
BEGIN:VEVENT
DTSTART;TZID=Europe/Berlin:20260327T190000
DTEND;TZID=Europe/Berlin:20260327T200000
DTSTAMP:20260424T111732
CREATED:20260321T110017Z
LAST-MODIFIED:20260321T110019Z
UID:6973-1774638000-1774641600@pfarre-euratsfeld.at
SUMMARY:Kreuzwegandacht gestaltet von der Legion Mariens
DESCRIPTION:Heute lädt die Legion Mariens sehr herzlich zur Mitfeier der Kreuzwegandacht um 19:00 Uhr in die Pfarrkirche ein.
URL:https://pfarre-euratsfeld.at/event/kreuzwegandacht-gestaltet-von-der-legion-mariens/
ATTACH;FMTTYPE=image/jpeg:https://pfarre-euratsfeld.at/wp-content/uploads/2026/02/Jesus-Christ-Savior-Messiah-Lord-Son-of-God….jpg
END:VEVENT
END:VCALENDAR