BEGIN:VCALENDAR
VERSION:2.0
PRODID:-//pfarre-euratsfeld.at - ECPv6.15.20//NONSGML v1.0//EN
CALSCALE:GREGORIAN
METHOD:PUBLISH
X-ORIGINAL-URL:https://pfarre-euratsfeld.at
X-WR-CALDESC:Veranstaltungen für pfarre-euratsfeld.at
REFRESH-INTERVAL;VALUE=DURATION:PT1H
X-Robots-Tag:noindex
X-PUBLISHED-TTL:PT1H
BEGIN:VTIMEZONE
TZID:Europe/Berlin
BEGIN:DAYLIGHT
TZOFFSETFROM:+0100
TZOFFSETTO:+0200
TZNAME:CEST
DTSTART:20250330T010000
END:DAYLIGHT
BEGIN:STANDARD
TZOFFSETFROM:+0200
TZOFFSETTO:+0100
TZNAME:CET
DTSTART:20251026T010000
END:STANDARD
BEGIN:DAYLIGHT
TZOFFSETFROM:+0100
TZOFFSETTO:+0200
TZNAME:CEST
DTSTART:20260329T010000
END:DAYLIGHT
BEGIN:STANDARD
TZOFFSETFROM:+0200
TZOFFSETTO:+0100
TZNAME:CET
DTSTART:20261025T010000
END:STANDARD
BEGIN:DAYLIGHT
TZOFFSETFROM:+0100
TZOFFSETTO:+0200
TZNAME:CEST
DTSTART:20270328T010000
END:DAYLIGHT
BEGIN:STANDARD
TZOFFSETFROM:+0200
TZOFFSETTO:+0100
TZNAME:CET
DTSTART:20271031T010000
END:STANDARD
END:VTIMEZONE
BEGIN:VEVENT
DTSTART;TZID=Europe/Berlin:20260402T203000
DTEND;TZID=Europe/Berlin:20260402T220000
DTSTAMP:20260424T055930
CREATED:20260328T153026Z
LAST-MODIFIED:20260328T153612Z
UID:7002-1775161800-1775167200@pfarre-euratsfeld.at
SUMMARY:Gedächtnisfeier des letzten Abendmahls
DESCRIPTION:Am heutigen Gründonnerstag feiern wir die Abendmahlfeier in der Pfarrkirche. Die Feier wird vom Chor „Zaumghean“ mitgestaltet.
URL:https://pfarre-euratsfeld.at/event/gedaechtnisfeier-des-letzten-abendmahls/
ATTACH;FMTTYPE=image/jpeg:https://pfarre-euratsfeld.at/wp-content/uploads/2026/03/Gruendonnerstag.jpg
END:VEVENT
END:VCALENDAR