BEGIN:VCALENDAR
VERSION:2.0
PRODID:-//pfarre-euratsfeld.at - ECPv6.15.20//NONSGML v1.0//EN
CALSCALE:GREGORIAN
METHOD:PUBLISH
X-WR-CALNAME:pfarre-euratsfeld.at
X-ORIGINAL-URL:https://pfarre-euratsfeld.at
X-WR-CALDESC:Veranstaltungen für pfarre-euratsfeld.at
REFRESH-INTERVAL;VALUE=DURATION:PT1H
X-Robots-Tag:noindex
X-PUBLISHED-TTL:PT1H
BEGIN:VTIMEZONE
TZID:Europe/Berlin
BEGIN:DAYLIGHT
TZOFFSETFROM:+0100
TZOFFSETTO:+0200
TZNAME:CEST
DTSTART:20250330T010000
END:DAYLIGHT
BEGIN:STANDARD
TZOFFSETFROM:+0200
TZOFFSETTO:+0100
TZNAME:CET
DTSTART:20251026T010000
END:STANDARD
BEGIN:DAYLIGHT
TZOFFSETFROM:+0100
TZOFFSETTO:+0200
TZNAME:CEST
DTSTART:20260329T010000
END:DAYLIGHT
BEGIN:STANDARD
TZOFFSETFROM:+0200
TZOFFSETTO:+0100
TZNAME:CET
DTSTART:20261025T010000
END:STANDARD
BEGIN:DAYLIGHT
TZOFFSETFROM:+0100
TZOFFSETTO:+0200
TZNAME:CEST
DTSTART:20270328T010000
END:DAYLIGHT
BEGIN:STANDARD
TZOFFSETFROM:+0200
TZOFFSETTO:+0100
TZNAME:CET
DTSTART:20271031T010000
END:STANDARD
END:VTIMEZONE
BEGIN:VEVENT
DTSTART;TZID=Europe/Berlin:20260201T103000
DTEND;TZID=Europe/Berlin:20260201T120000
DTSTAMP:20260424T073111
CREATED:20260130T210929Z
LAST-MODIFIED:20260130T210930Z
UID:6718-1769941800-1769947200@pfarre-euratsfeld.at
SUMMARY:Pfarrkaffe des Musikvereins Euratsfeld
DESCRIPTION:Heute  nach der Hl. Messe lädt der Musikverein Euratsfeld alle sehr herzlich zum Pfarrcafe ein.
URL:https://pfarre-euratsfeld.at/event/pfarrkaffe-des-musikvereins-euratsfeld/
ATTACH;FMTTYPE=image/jpeg:https://pfarre-euratsfeld.at/wp-content/uploads/2026/01/Einladung-Pfarrkaffee-MV-Euratsfeld.jpeg
END:VEVENT
BEGIN:VEVENT
DTSTART;TZID=Europe/Berlin:20260204T140000
DTEND;TZID=Europe/Berlin:20260204T170000
DTSTAMP:20260424T073111
CREATED:20260130T214033Z
LAST-MODIFIED:20260130T214035Z
UID:6726-1770213600-1770224400@pfarre-euratsfeld.at
SUMMARY:Nachmittag der Goldenen Generation
DESCRIPTION:Die Euratsfelder Senioren laden heute ab 14 Uhr sehr herzlich zur Goldenen Generation ins PGZ ein.
URL:https://pfarre-euratsfeld.at/event/nachmittag-der-goldenen-generation/
ATTACH;FMTTYPE=image/jpeg:https://pfarre-euratsfeld.at/wp-content/uploads/2024/07/istockphoto-1251523895-170667a.jpg
END:VEVENT
BEGIN:VEVENT
DTSTART;TZID=Europe/Berlin:20260220T190000
DTEND;TZID=Europe/Berlin:20260220T200000
DTSTAMP:20260424T073112
CREATED:20260214T084338Z
LAST-MODIFIED:20260214T084339Z
UID:6803-1771614000-1771617600@pfarre-euratsfeld.at
SUMMARY:Kreuzwegandacht
DESCRIPTION:Heute findet in der Pfarrkirche eine Kreuzwegandacht statt. Sie wird von Lektor:innen unserer Pfarre mitgestaltet.
URL:https://pfarre-euratsfeld.at/event/kreuzwegandacht-5/
ATTACH;FMTTYPE=image/jpeg:https://pfarre-euratsfeld.at/wp-content/uploads/2026/02/Jesus-Christ-Savior-Messiah-Lord-Son-of-God….jpg
END:VEVENT
BEGIN:VEVENT
DTSTART;TZID=Europe/Berlin:20260227T190000
DTEND;TZID=Europe/Berlin:20260227T200000
DTSTAMP:20260424T073112
CREATED:20260221T132138Z
LAST-MODIFIED:20260221T132141Z
UID:6819-1772218800-1772222400@pfarre-euratsfeld.at
SUMMARY:Kreuzwegandacht
DESCRIPTION:Heute laden wir Sie alle wieder sehr herzlich zur Feier einer Kreuzwegandacht in unsere Pfarrkirche ein.
URL:https://pfarre-euratsfeld.at/event/kreuzwegandacht-6/
ATTACH;FMTTYPE=image/jpeg:https://pfarre-euratsfeld.at/wp-content/uploads/2026/02/Jesus-Christ-Savior-Messiah-Lord-Son-of-God….jpg
END:VEVENT
BEGIN:VEVENT
DTSTART;TZID=Europe/Berlin:20260227T190000
DTEND;TZID=Europe/Berlin:20260227T203000
DTSTAMP:20260424T073112
CREATED:20260221T133053Z
LAST-MODIFIED:20260221T133248Z
UID:6821-1772218800-1772224200@pfarre-euratsfeld.at
SUMMARY:Info-Abend zur Reise nach Portugal\, Spanien & Santiago de Compostela
DESCRIPTION:Heute findet im PGZ die Informationsveranstaltung zur diesjärigen Reise des Pfarrverbandes Euratsfeld-Ferschnitz nach Portugal\, Fatima und Santiago de Compostela statt.
URL:https://pfarre-euratsfeld.at/event/info-abend-zur-reise-nach-portugal-spanien-und-santiago-de-compostela/
ATTACH;FMTTYPE=image/jpeg:https://pfarre-euratsfeld.at/wp-content/uploads/2025/11/Portugal-Pfarrverband-Euratsfeld-Ferschnitz-Sammelmappe-1.jpg
END:VEVENT
END:VCALENDAR