BEGIN:VCALENDAR
VERSION:2.0
PRODID:-//pfarre-euratsfeld.at - ECPv6.15.20//NONSGML v1.0//EN
CALSCALE:GREGORIAN
METHOD:PUBLISH
X-WR-CALNAME:pfarre-euratsfeld.at
X-ORIGINAL-URL:https://pfarre-euratsfeld.at
X-WR-CALDESC:Veranstaltungen für pfarre-euratsfeld.at
REFRESH-INTERVAL;VALUE=DURATION:PT1H
X-Robots-Tag:noindex
X-PUBLISHED-TTL:PT1H
BEGIN:VTIMEZONE
TZID:Europe/Berlin
BEGIN:DAYLIGHT
TZOFFSETFROM:+0100
TZOFFSETTO:+0200
TZNAME:CEST
DTSTART:20250330T010000
END:DAYLIGHT
BEGIN:STANDARD
TZOFFSETFROM:+0200
TZOFFSETTO:+0100
TZNAME:CET
DTSTART:20251026T010000
END:STANDARD
BEGIN:DAYLIGHT
TZOFFSETFROM:+0100
TZOFFSETTO:+0200
TZNAME:CEST
DTSTART:20260329T010000
END:DAYLIGHT
BEGIN:STANDARD
TZOFFSETFROM:+0200
TZOFFSETTO:+0100
TZNAME:CET
DTSTART:20261025T010000
END:STANDARD
BEGIN:DAYLIGHT
TZOFFSETFROM:+0100
TZOFFSETTO:+0200
TZNAME:CEST
DTSTART:20270328T010000
END:DAYLIGHT
BEGIN:STANDARD
TZOFFSETFROM:+0200
TZOFFSETTO:+0100
TZNAME:CET
DTSTART:20271031T010000
END:STANDARD
END:VTIMEZONE
BEGIN:VEVENT
DTSTART;TZID=Europe/Berlin:20260304T140000
DTEND;TZID=Europe/Berlin:20260304T170000
DTSTAMP:20260424T055705
CREATED:20260228T200545Z
LAST-MODIFIED:20260228T203808Z
UID:6835-1772632800-1772643600@pfarre-euratsfeld.at
SUMMARY:Alten- und Krankentag
DESCRIPTION:Heute lädt der Pfarrverband Euratsfeld-Ferschnitz alle zum Alten- und Krankentag ins PGZ ein. Um 14 Uhr feiern wir die Heilige Messe mit Spendung der heiligen Krankensalbung. Anschließend gemütliches Beisammensein.
URL:https://pfarre-euratsfeld.at/event/alten-und-krankentag/
ATTACH;FMTTYPE=image/jpeg:https://pfarre-euratsfeld.at/wp-content/uploads/2026/02/Einladung-Alten-und-Krankentag-2026-1.jpg
END:VEVENT
BEGIN:VEVENT
DTSTART;TZID=Europe/Berlin:20260306T190000
DTEND;TZID=Europe/Berlin:20260306T200000
DTSTAMP:20260424T055705
CREATED:20260228T204127Z
LAST-MODIFIED:20260228T204128Z
UID:6847-1772823600-1772827200@pfarre-euratsfeld.at
SUMMARY:Kreuzweg der Senioren
DESCRIPTION:Der heutige Kreuzweg wird von den Senioren mitgestaltet. Wir laden alle herzlich dazu ein.
URL:https://pfarre-euratsfeld.at/event/kreuzweg-der-senioren/
ATTACH;FMTTYPE=image/jpeg:https://pfarre-euratsfeld.at/wp-content/uploads/2026/02/Jesus-Christ-Savior-Messiah-Lord-Son-of-God….jpg
END:VEVENT
BEGIN:VEVENT
DTSTART;TZID=Europe/Berlin:20260307T163000
DTEND;TZID=Europe/Berlin:20260307T183000
DTSTAMP:20260424T055705
CREATED:20260228T203602Z
LAST-MODIFIED:20260307T065200Z
UID:6842-1772901000-1772908200@pfarre-euratsfeld.at
SUMMARY:Frühlingskonzert des Orgelvereins Ferschnitz
DESCRIPTION:Der Orgelverein Ferschnitz lädt am 07. März sehr herzlich zum Frühlingskonzert um 16:30 Uhr in die Pfarrkirche Ferschnitz ein. Freiwillige Spendung für die Sanierung der Kirchenorgel werden erbeten.
URL:https://pfarre-euratsfeld.at/event/fruehlingskonzert-des-orgelvereins-ferschnitz/
ATTACH;FMTTYPE=image/jpeg:https://pfarre-euratsfeld.at/wp-content/uploads/2026/02/Orgelverein-Ferschnitz.jpg
END:VEVENT
BEGIN:VEVENT
DTSTART;TZID=Europe/Berlin:20260308T080000
DTEND;TZID=Europe/Berlin:20260308T120000
DTSTAMP:20260424T055705
CREATED:20260308T064208Z
LAST-MODIFIED:20260308T064209Z
UID:6869-1772956800-1772971200@pfarre-euratsfeld.at
SUMMARY:Pfarrkaffe der Katholischen Frauenbewegung
DESCRIPTION:Heute lädt die Katholische Frauenbewegung sehr herzlich zum Pfarrkaffee ins PGZ ein.
URL:https://pfarre-euratsfeld.at/event/pfarrkaffe-der-katholischen-frauenbewegung/
ATTACH;FMTTYPE=image/jpeg:https://pfarre-euratsfeld.at/wp-content/uploads/2026/02/Einladung-Pfarrkaffee-1.jpg
END:VEVENT
BEGIN:VEVENT
DTSTART;TZID=Europe/Berlin:20260313T190000
DTEND;TZID=Europe/Berlin:20260313T193000
DTSTAMP:20260424T055705
CREATED:20260307T065017Z
LAST-MODIFIED:20260308T063828Z
UID:6860-1773428400-1773430200@pfarre-euratsfeld.at
SUMMARY:Kreuzwegandacht
DESCRIPTION:Heute laden die Mesner sehr herzlich zur Mitfeier einer Kreuzwegandacht um 19:00 Uhr ein.
URL:https://pfarre-euratsfeld.at/event/kreuzwegandacht-7/
ATTACH;FMTTYPE=image/jpeg:https://pfarre-euratsfeld.at/wp-content/uploads/2026/02/Jesus-Christ-Savior-Messiah-Lord-Son-of-God….jpg
END:VEVENT
BEGIN:VEVENT
DTSTART;TZID=Europe/Berlin:20260314T083000
DTEND;TZID=Europe/Berlin:20260314T120000
DTSTAMP:20260424T055705
CREATED:20260308T063736Z
LAST-MODIFIED:20260314T124520Z
UID:6866-1773477000-1773489600@pfarre-euratsfeld.at
SUMMARY:Aktion Familienfasttag - Suppe im Glas
DESCRIPTION:Heute werden im Rahmen der Aktion Familienfasttag ab 8:30 Uhr von der KFB am Marktplatz bei der Speis köstliche Suppen im Glas zum Kauf angeboten.
URL:https://pfarre-euratsfeld.at/event/aktion-familienfasttag-suppe-im-glas/
ATTACH;FMTTYPE=image/jpeg:https://pfarre-euratsfeld.at/wp-content/uploads/2026/02/FFT-Plakat-2026-2-scaled.jpg
END:VEVENT
BEGIN:VEVENT
DTSTART;TZID=Europe/Berlin:20260318T083000
DTEND;TZID=Europe/Berlin:20260318T120000
DTSTAMP:20260424T055705
CREATED:20260314T124408Z
LAST-MODIFIED:20260314T124410Z
UID:6928-1773822600-1773835200@pfarre-euratsfeld.at
SUMMARY:Palmbesen binden im PGZ
DESCRIPTION:Heute werden ab 8:30 Uhr im PGZ die Palmbesen gebunden. Wer gerne helfen möchte\, ist recht herzlich willkommen.
URL:https://pfarre-euratsfeld.at/event/palmbesen-binden-im-pgz/
ATTACH;FMTTYPE=image/jpeg:https://pfarre-euratsfeld.at/wp-content/uploads/2025/03/Palmzweige.jpg
END:VEVENT
BEGIN:VEVENT
DTSTART;TZID=Europe/Berlin:20260320T190000
DTEND;TZID=Europe/Berlin:20260320T210000
DTSTAMP:20260424T055705
CREATED:20260314T125001Z
LAST-MODIFIED:20260314T125500Z
UID:6930-1774033200-1774040400@pfarre-euratsfeld.at
SUMMARY:Segnung der Kreuzwegbilder und Kreuzwegandacht des PGR
DESCRIPTION:Heute werden um 19:00 Uhr die von Ferdinand Viertlmayr gestalteten Kreuzwegbilder bei der Friedhofsmauer gesegnet. Anschließend lädt der Pfarrgemeinderat sehr herzlich zur Kreuzwegandacht mit anschließender Agape ein. Treffpunkt ist bei der Aufbahrungshalle.
URL:https://pfarre-euratsfeld.at/event/segnung-der-kreuzwegbilder-und-kreuzwegandacht-des-pgr/
ATTACH;FMTTYPE=image/jpeg:https://pfarre-euratsfeld.at/wp-content/uploads/2026/02/Jesus-Christ-Savior-Messiah-Lord-Son-of-God….jpg
END:VEVENT
BEGIN:VEVENT
DTSTART;TZID=Europe/Berlin:20260322T090000
DTEND;TZID=Europe/Berlin:20260322T120000
DTSTAMP:20260424T055705
CREATED:20260314T125307Z
LAST-MODIFIED:20260321T110143Z
UID:6932-1774170000-1774180800@pfarre-euratsfeld.at
SUMMARY:Palmbesenverkauf
DESCRIPTION:Am Sonntag ist die Hl. Messe um 8.00 Uhr und um 9.30 Uhr ist Wortgottesfeier. Nach der Heiligen  Messe sowie nach der Wortgottesfeier werden die Palmbesen verkauft.
URL:https://pfarre-euratsfeld.at/event/palmbesenverkauf/
ATTACH;FMTTYPE=image/jpeg:https://pfarre-euratsfeld.at/wp-content/uploads/2026/03/Palmbesen.jpg
END:VEVENT
BEGIN:VEVENT
DTSTART;TZID=Europe/Berlin:20260326T190000
DTEND;TZID=Europe/Berlin:20260326T200000
DTSTAMP:20260424T055705
CREATED:20260321T193900Z
LAST-MODIFIED:20260321T193901Z
UID:6986-1774551600-1774555200@pfarre-euratsfeld.at
SUMMARY:Bußfeier zur Vorbereitung auf das Osterfest
DESCRIPTION:Heute lädt der Pfarrverband Eurastfeld-Ferschnitz um 19:00 Uhr alle sehr herzlich zur gemeinsamen Bußandacht zur Vorbereitung auf Ostern in die Pfarrkirche Ferschnitz ein.  \n\n\n\nIm Anschluss an die Bußandacht ist Beichtgelegenheit.
URL:https://pfarre-euratsfeld.at/event/bussfeier-zur-vorbereitung-auf-das-osterfest/
ATTACH;FMTTYPE=image/jpeg:https://pfarre-euratsfeld.at/wp-content/uploads/2026/03/Einladung-Bussandacht-Ferschnitz-2026-1.jpg
END:VEVENT
BEGIN:VEVENT
DTSTART;TZID=Europe/Berlin:20260327T080000
DTEND;TZID=Europe/Berlin:20260327T110000
DTSTAMP:20260424T055705
CREATED:20260321T194946Z
LAST-MODIFIED:20260321T194947Z
UID:6988-1774598400-1774609200@pfarre-euratsfeld.at
SUMMARY:Ostergottesdienste für die Volks- und Mittelschule
DESCRIPTION:Heute feiern wir um 8:00 Uhr Ostergottesdienst für die Volksschule und um 10:30 Uhr für die neue Mittelschule.
URL:https://pfarre-euratsfeld.at/event/ostergottesdienste-fuer-die-volks-und-mittelschule/
ATTACH;FMTTYPE=image/png:https://pfarre-euratsfeld.at/wp-content/uploads/2026/03/hoggyart-cross-8554884-scaled.png
END:VEVENT
BEGIN:VEVENT
DTSTART;TZID=Europe/Berlin:20260327T190000
DTEND;TZID=Europe/Berlin:20260327T200000
DTSTAMP:20260424T055705
CREATED:20260321T110017Z
LAST-MODIFIED:20260321T110019Z
UID:6973-1774638000-1774641600@pfarre-euratsfeld.at
SUMMARY:Kreuzwegandacht gestaltet von der Legion Mariens
DESCRIPTION:Heute lädt die Legion Mariens sehr herzlich zur Mitfeier der Kreuzwegandacht um 19:00 Uhr in die Pfarrkirche ein.
URL:https://pfarre-euratsfeld.at/event/kreuzwegandacht-gestaltet-von-der-legion-mariens/
ATTACH;FMTTYPE=image/jpeg:https://pfarre-euratsfeld.at/wp-content/uploads/2026/02/Jesus-Christ-Savior-Messiah-Lord-Son-of-God….jpg
END:VEVENT
BEGIN:VEVENT
DTSTART;TZID=Europe/Berlin:20260329T091500
DTEND;TZID=Europe/Berlin:20260329T110000
DTSTAMP:20260424T055705
CREATED:20260321T111951Z
LAST-MODIFIED:20260321T111952Z
UID:6976-1774775700-1774782000@pfarre-euratsfeld.at
SUMMARY:Palmsonntag
DESCRIPTION:Am heutigen Palmsonntag laden wir herzlich zur Palmprozession ein. Um 9:15 Uhr Abmarsch vom Marktplatz mit dem Musikverein\, um 9:30 Uhr Palmweihe beim Kreuz vorm Hause Handl\, anschließend Prozession zur Kirche und Eucharistiefeier.
URL:https://pfarre-euratsfeld.at/event/palmsonntag-2/
ATTACH;FMTTYPE=image/jpeg:https://pfarre-euratsfeld.at/wp-content/uploads/2026/03/Hosanna-in-the-Highest_-Palm-Sunday-Entry.jpg
END:VEVENT
END:VCALENDAR